BEGIN:VCALENDAR
VERSION:2.0
PRODID:-//One Family One Fight - ECPv6.15.20//NONSGML v1.0//EN
CALSCALE:GREGORIAN
METHOD:PUBLISH
X-ORIGINAL-URL:https://onefamilyonefight.com/2025
X-WR-CALDESC:Events for One Family One Fight
REFRESH-INTERVAL;VALUE=DURATION:PT1H
X-Robots-Tag:noindex
X-PUBLISHED-TTL:PT1H
BEGIN:VTIMEZONE
TZID:America/New_York
BEGIN:DAYLIGHT
TZOFFSETFROM:-0500
TZOFFSETTO:-0400
TZNAME:EDT
DTSTART:20250309T070000
END:DAYLIGHT
BEGIN:STANDARD
TZOFFSETFROM:-0400
TZOFFSETTO:-0500
TZNAME:EST
DTSTART:20251102T060000
END:STANDARD
BEGIN:DAYLIGHT
TZOFFSETFROM:-0500
TZOFFSETTO:-0400
TZNAME:EDT
DTSTART:20260308T070000
END:DAYLIGHT
BEGIN:STANDARD
TZOFFSETFROM:-0400
TZOFFSETTO:-0500
TZNAME:EST
DTSTART:20261101T060000
END:STANDARD
BEGIN:DAYLIGHT
TZOFFSETFROM:-0500
TZOFFSETTO:-0400
TZNAME:EDT
DTSTART:20270314T070000
END:DAYLIGHT
BEGIN:STANDARD
TZOFFSETFROM:-0400
TZOFFSETTO:-0500
TZNAME:EST
DTSTART:20271107T060000
END:STANDARD
END:VTIMEZONE
BEGIN:VEVENT
DTSTART;TZID=America/New_York:20260719T130000
DTEND;TZID=America/New_York:20260719T180000
DTSTAMP:20260423T195719
CREATED:20260126T180323Z
LAST-MODIFIED:20260126T180323Z
UID:12615-1784466000-1784484000@onefamilyonefight.com
SUMMARY:CommUnity Family Day
DESCRIPTION:CommUnity Family Day is a high-energy summer celebration bringing families together for a day of fun\, connection\, and positive vibes. \nEnjoy pools\, games\, food trucks\, vendors\, sports\, music\, and activities for all ages in a lively\, family-friendly atmosphere. This event is all about making memories\, building community\, and creating a joyful day for kids\, parents\, and neighbors alike. \nCome out\, bring the family\, and celebrate summer with us.
URL:https://onefamilyonefight.com/2025/event/community-family-day/
LOCATION:Eagle’s Landing Day Camp\, 74 Davidson Mill Road\, North Brunswick\, NJ\, 08902\, United States
CATEGORIES:Fundraiser,Social
ATTACH;FMTTYPE=image/jpeg:https://onefamilyonefight.com/2025/wp-content/uploads/2026/01/Community-Unity-Fam-Day-2026-copy-scaled.jpeg
END:VEVENT
END:VCALENDAR