BEGIN:VCALENDAR
VERSION:2.0
PRODID:-//One Family One Fight - ECPv6.15.20//NONSGML v1.0//EN
CALSCALE:GREGORIAN
METHOD:PUBLISH
X-ORIGINAL-URL:https://onefamilyonefight.com/2025
X-WR-CALDESC:Events for One Family One Fight
REFRESH-INTERVAL;VALUE=DURATION:PT1H
X-Robots-Tag:noindex
X-PUBLISHED-TTL:PT1H
BEGIN:VTIMEZONE
TZID:America/New_York
BEGIN:DAYLIGHT
TZOFFSETFROM:-0500
TZOFFSETTO:-0400
TZNAME:EDT
DTSTART:20250309T070000
END:DAYLIGHT
BEGIN:STANDARD
TZOFFSETFROM:-0400
TZOFFSETTO:-0500
TZNAME:EST
DTSTART:20251102T060000
END:STANDARD
BEGIN:DAYLIGHT
TZOFFSETFROM:-0500
TZOFFSETTO:-0400
TZNAME:EDT
DTSTART:20260308T070000
END:DAYLIGHT
BEGIN:STANDARD
TZOFFSETFROM:-0400
TZOFFSETTO:-0500
TZNAME:EST
DTSTART:20261101T060000
END:STANDARD
BEGIN:DAYLIGHT
TZOFFSETFROM:-0500
TZOFFSETTO:-0400
TZNAME:EDT
DTSTART:20270314T070000
END:DAYLIGHT
BEGIN:STANDARD
TZOFFSETFROM:-0400
TZOFFSETTO:-0500
TZNAME:EST
DTSTART:20271107T060000
END:STANDARD
END:VTIMEZONE
BEGIN:VEVENT
DTSTART;TZID=America/New_York:20260509T140000
DTEND;TZID=America/New_York:20260509T180000
DTSTAMP:20260423T205800
CREATED:20260126T175347Z
LAST-MODIFIED:20260126T180514Z
UID:12606-1778335200-1778349600@onefamilyonefight.com
SUMMARY:RnBingo Mother’s Day Edition
DESCRIPTION:RnBingo is where classic bingo meets smooth R&B\, sing-alongs\, and grown-folks energy. \nEnjoy music\, prizes\, games\, and nonstop vibes in a relaxed\, fun\, and social atmosphere. Bring your crew\, bring your drinks and food (BYOB/BYOF)\, and get ready for a night of laughter\, competition\, and good music curated by DJ Cool Curt. \nThis isn’t just bingo — it’s a whole vibe.
URL:https://onefamilyonefight.com/2025/event/rnbingo-mothers-day-edition/
LOCATION:Adams Athletic & Social Club\, North Brunswick\, NJ\, United States
CATEGORIES:Fundraiser,Social
ATTACH;FMTTYPE=image/png:https://onefamilyonefight.com/2025/wp-content/uploads/2026/01/Copy-of-Bingo-Night-Flyer.png
END:VEVENT
END:VCALENDAR